BEGIN:VCALENDAR
VERSION:2.0
PRODID:-//Presbyterian Mission Agency - ECPv6.7.0//NONSGML v1.0//EN
CALSCALE:GREGORIAN
METHOD:PUBLISH
X-ORIGINAL-URL:https://centernet.pcusa.org
X-WR-CALDESC:Events for Presbyterian Mission Agency
REFRESH-INTERVAL;VALUE=DURATION:PT1H
X-Robots-Tag:noindex
X-PUBLISHED-TTL:PT1H
BEGIN:VTIMEZONE
TZID:America/Kentucky/Louisville
BEGIN:DAYLIGHT
TZOFFSETFROM:-0500
TZOFFSETTO:-0400
TZNAME:EDT
DTSTART:20210314T070000
END:DAYLIGHT
BEGIN:STANDARD
TZOFFSETFROM:-0400
TZOFFSETTO:-0500
TZNAME:EST
DTSTART:20211107T060000
END:STANDARD
END:VTIMEZONE
BEGIN:VEVENT
DTSTART;TZID=America/Kentucky/Louisville:20210121T130000
DTEND;TZID=America/Kentucky/Louisville:20210121T140000
DTSTAMP:20260421T221007
CREATED:20210114T204538Z
LAST-MODIFIED:20210114T204646Z
UID:197785-1611234000-1611237600@centernet.pcusa.org
SUMMARY:PMAB Property/Legal Committee
DESCRIPTION:PMAB Property/Legal Committee
URL:https://centernet.pcusa.org/event/pmab-property-legal-committee/
LOCATION:United States\, United States
CATEGORIES:PCUSA A Corp
ORGANIZER;CN="Mike Kirk":MAILTO:mike.kirk@pcusa.org
END:VEVENT
END:VCALENDAR