BEGIN:VCALENDAR
VERSION:2.0
PRODID:-//Presbyterian Mission Agency - ECPv6.7.0//NONSGML v1.0//EN
CALSCALE:GREGORIAN
METHOD:PUBLISH
X-WR-CALNAME:Presbyterian Mission Agency
X-ORIGINAL-URL:https://centernet.pcusa.org
X-WR-CALDESC:Events for Presbyterian Mission Agency
REFRESH-INTERVAL;VALUE=DURATION:PT1H
X-Robots-Tag:noindex
X-PUBLISHED-TTL:PT1H
BEGIN:VTIMEZONE
TZID:America/Kentucky/Louisville
BEGIN:DAYLIGHT
TZOFFSETFROM:-0500
TZOFFSETTO:-0400
TZNAME:EDT
DTSTART:20220313T070000
END:DAYLIGHT
BEGIN:STANDARD
TZOFFSETFROM:-0400
TZOFFSETTO:-0500
TZNAME:EST
DTSTART:20221106T060000
END:STANDARD
END:VTIMEZONE
BEGIN:VEVENT
DTSTART;TZID=America/Kentucky/Louisville:20221103T160000
DTEND;TZID=America/Kentucky/Louisville:20221103T170000
DTSTAMP:20260421T202843
CREATED:20220830T152200Z
LAST-MODIFIED:20220830T162014Z
UID:222328-1667491200-1667494800@centernet.pcusa.org
SUMMARY:Women of Faith Awards Ceremony
DESCRIPTION:The Women of Faith Awards were established in 1986 to honor female members of the PC (U.S.A.) whose lives exemplify their Christian commitments.   \nFor questions\, contact: Jewel McRae or Beth Olker
URL:https://centernet.pcusa.org/event/women-of-faith-awards-ceremony/
CATEGORIES:Racial Equity & Women's Intercultural Ministries
ORGANIZER;CN="Jewel McRae":MAILTO:jewel.mcrae@pcusa.org
END:VEVENT
END:VCALENDAR