BEGIN:VCALENDAR
VERSION:2.0
PRODID:-//Presbyterian Mission Agency - ECPv6.7.0//NONSGML v1.0//EN
CALSCALE:GREGORIAN
METHOD:PUBLISH
X-WR-CALNAME:Presbyterian Mission Agency
X-ORIGINAL-URL:https://centernet.pcusa.org
X-WR-CALDESC:Events for Presbyterian Mission Agency
REFRESH-INTERVAL;VALUE=DURATION:PT1H
X-Robots-Tag:noindex
X-PUBLISHED-TTL:PT1H
BEGIN:VTIMEZONE
TZID:America/Kentucky/Louisville
BEGIN:DAYLIGHT
TZOFFSETFROM:-0500
TZOFFSETTO:-0400
TZNAME:EDT
DTSTART:20230312T070000
END:DAYLIGHT
BEGIN:STANDARD
TZOFFSETFROM:-0400
TZOFFSETTO:-0500
TZNAME:EST
DTSTART:20231105T060000
END:STANDARD
END:VTIMEZONE
BEGIN:VEVENT
DTSTART;TZID=America/Kentucky/Louisville:20230417T080000
DTEND;TZID=America/Kentucky/Louisville:20230419T200000
DTSTAMP:20260422T001511
CREATED:20230412T184534Z
LAST-MODIFIED:20230412T184534Z
UID:229992-1681718400-1681934400@centernet.pcusa.org
SUMMARY:Sabbath Center retreat
DESCRIPTION:1001 leaders will be participating in this retreat being sponsored by the Sabbath Center. The retreat’s focus is on rest and renewal for weary leaders.
URL:https://centernet.pcusa.org/event/sabbath-center-retreat/
LOCATION:Denver\, CO
CATEGORIES:Theology, Formation, and Evangelism
ORGANIZER;CN="Kirstie Johnson":MAILTO:kirstie.johnson@pcusa.org
END:VEVENT
END:VCALENDAR