BEGIN:VCALENDAR
VERSION:2.0
PRODID:-//Presbyterian Mission Agency - ECPv6.7.0//NONSGML v1.0//EN
CALSCALE:GREGORIAN
METHOD:PUBLISH
X-WR-CALNAME:Presbyterian Mission Agency
X-ORIGINAL-URL:https://centernet.pcusa.org
X-WR-CALDESC:Events for Presbyterian Mission Agency
REFRESH-INTERVAL;VALUE=DURATION:PT1H
X-Robots-Tag:noindex
X-PUBLISHED-TTL:PT1H
BEGIN:VTIMEZONE
TZID:America/Kentucky/Louisville
BEGIN:DAYLIGHT
TZOFFSETFROM:-0500
TZOFFSETTO:-0400
TZNAME:EDT
DTSTART:20220313T070000
END:DAYLIGHT
BEGIN:STANDARD
TZOFFSETFROM:-0400
TZOFFSETTO:-0500
TZNAME:EST
DTSTART:20221106T060000
END:STANDARD
END:VTIMEZONE
BEGIN:VEVENT
DTSTART;VALUE=DATE:20221108
DTEND;VALUE=DATE:20221113
DTSTAMP:20260421T201139
CREATED:20220504T143011Z
LAST-MODIFIED:20220504T143105Z
UID:218385-1667865600-1668297599@centernet.pcusa.org
SUMMARY:Presbyterian Older Adults Ministry Network Fall Retreat
DESCRIPTION:Retreat for Older Adult Ministry Leaders
URL:https://centernet.pcusa.org/event/presbyterian-older-adults-ministry-network-fall-retreat/
CATEGORIES:Theology, Formation, and Evangelism
ORGANIZER;CN="Stephanie Fritz":MAILTO:stephanie.fritz@pcusa.org
END:VEVENT
END:VCALENDAR