BEGIN:VCALENDAR
VERSION:2.0
PRODID:-//Presbyterian Mission Agency - ECPv6.7.0//NONSGML v1.0//EN
CALSCALE:GREGORIAN
METHOD:PUBLISH
X-ORIGINAL-URL:https://centernet.pcusa.org
X-WR-CALDESC:Events for Presbyterian Mission Agency
REFRESH-INTERVAL;VALUE=DURATION:PT1H
X-Robots-Tag:noindex
X-PUBLISHED-TTL:PT1H
BEGIN:VTIMEZONE
TZID:America/Kentucky/Louisville
BEGIN:DAYLIGHT
TZOFFSETFROM:-0500
TZOFFSETTO:-0400
TZNAME:EDT
DTSTART:20240310T070000
END:DAYLIGHT
BEGIN:STANDARD
TZOFFSETFROM:-0400
TZOFFSETTO:-0500
TZNAME:EST
DTSTART:20241103T060000
END:STANDARD
END:VTIMEZONE
BEGIN:VEVENT
DTSTART;VALUE=DATE:20240311
DTEND;VALUE=DATE:20240323
DTSTAMP:20260422T032716
CREATED:20231106T191730Z
LAST-MODIFIED:20231106T192155Z
UID:237236-1710115200-1711151999@centernet.pcusa.org
SUMMARY:CSW68
DESCRIPTION:The Commission on the Status of Women (CSW) is the principal global intergovernmental body exclusively dedicated to the promotion of gender equality and the empowerment of women at the United Nations. \nEvery year we bring a Presbyterian delegation between both PMUN/PW. The event will be hybrid.
URL:https://centernet.pcusa.org/event/csw68/
CATEGORIES:Compassion Peace and Justice
ORGANIZER;CN="Ivy Lopedito":MAILTO:ivy.lopedito@pcusa.org
END:VEVENT
END:VCALENDAR