BEGIN:VCALENDAR
VERSION:2.0
PRODID:-//Presbyterian Mission Agency - ECPv6.7.0//NONSGML v1.0//EN
CALSCALE:GREGORIAN
METHOD:PUBLISH
X-ORIGINAL-URL:https://centernet.pcusa.org
X-WR-CALDESC:Events for Presbyterian Mission Agency
REFRESH-INTERVAL;VALUE=DURATION:PT1H
X-Robots-Tag:noindex
X-PUBLISHED-TTL:PT1H
BEGIN:VTIMEZONE
TZID:America/Kentucky/Louisville
BEGIN:DAYLIGHT
TZOFFSETFROM:-0500
TZOFFSETTO:-0400
TZNAME:EDT
DTSTART:20210314T070000
END:DAYLIGHT
BEGIN:STANDARD
TZOFFSETFROM:-0400
TZOFFSETTO:-0500
TZNAME:EST
DTSTART:20211107T060000
END:STANDARD
END:VTIMEZONE
BEGIN:VEVENT
DTSTART;TZID=America/Kentucky/Louisville:20210408T150000
DTEND;TZID=America/Kentucky/Louisville:20210408T160000
DTSTAMP:20260419T192033
CREATED:20210401T134721Z
LAST-MODIFIED:20210401T134752Z
UID:201222-1617894000-1617897600@centernet.pcusa.org
SUMMARY:PMAB Property/Legal and Resource Allocation & Stewardship Committee (RASC) Joint meeting
DESCRIPTION:
URL:https://centernet.pcusa.org/event/pmab-property-legal-and-resource-allocation-stewardship-committee-rasc-joint-meeting/
CATEGORIES:Presbyterian Mission Agency Board
ORGANIZER;CN="Alejandra Sherman":MAILTO:Alejandra.Sherman@pcusa.org
END:VEVENT
END:VCALENDAR