BEGIN:VCALENDAR
VERSION:2.0
PRODID:-//Presbyterian Mission Agency - ECPv6.7.0//NONSGML v1.0//EN
CALSCALE:GREGORIAN
METHOD:PUBLISH
X-ORIGINAL-URL:https://centernet.pcusa.org
X-WR-CALDESC:Events for Presbyterian Mission Agency
REFRESH-INTERVAL;VALUE=DURATION:PT1H
X-Robots-Tag:noindex
X-PUBLISHED-TTL:PT1H
BEGIN:VTIMEZONE
TZID:America/Kentucky/Louisville
BEGIN:DAYLIGHT
TZOFFSETFROM:-0500
TZOFFSETTO:-0400
TZNAME:EDT
DTSTART:20170312T070000
END:DAYLIGHT
BEGIN:STANDARD
TZOFFSETFROM:-0400
TZOFFSETTO:-0500
TZNAME:EST
DTSTART:20171105T060000
END:STANDARD
END:VTIMEZONE
BEGIN:VEVENT
DTSTART;TZID=America/Kentucky/Louisville:20170817T110000
DTEND;TZID=America/Kentucky/Louisville:20170817T120000
DTSTAMP:20260426T003142
CREATED:20170605T180943Z
LAST-MODIFIED:20170605T180943Z
UID:74157-1502967600-1502971200@centernet.pcusa.org
SUMMARY:PMA Finance Committee Quarterly Meeting — Open
DESCRIPTION:
URL:https://centernet.pcusa.org/event/pma-finance-committee-quarterly-meeting-open/
LOCATION:Louisville\, Louisville\, KY\, United States
CATEGORIES:Presbyterian Mission Agency
END:VEVENT
END:VCALENDAR