BEGIN:VCALENDAR
VERSION:2.0
PRODID:-//Presbyterian Mission Agency - ECPv6.7.0//NONSGML v1.0//EN
CALSCALE:GREGORIAN
METHOD:PUBLISH
X-WR-CALNAME:Presbyterian Mission Agency
X-ORIGINAL-URL:https://centernet.pcusa.org
X-WR-CALDESC:Events for Presbyterian Mission Agency
REFRESH-INTERVAL;VALUE=DURATION:PT1H
X-Robots-Tag:noindex
X-PUBLISHED-TTL:PT1H
BEGIN:VTIMEZONE
TZID:America/Kentucky/Louisville
BEGIN:DAYLIGHT
TZOFFSETFROM:-0500
TZOFFSETTO:-0400
TZNAME:EDT
DTSTART:20230312T070000
END:DAYLIGHT
BEGIN:STANDARD
TZOFFSETFROM:-0400
TZOFFSETTO:-0500
TZNAME:EST
DTSTART:20231105T060000
END:STANDARD
END:VTIMEZONE
BEGIN:VEVENT
DTSTART;TZID=America/Kentucky/Louisville:20230731T120000
DTEND;TZID=America/Kentucky/Louisville:20230803T120000
DTSTAMP:20260424T041346
CREATED:20221026T165024Z
LAST-MODIFIED:20230421T155341Z
UID:224442-1690804800-1691064000@centernet.pcusa.org
SUMMARY:PMA Board Retreat
DESCRIPTION:
URL:https://centernet.pcusa.org/event/pma-board-meeting-11/
CATEGORIES:Presbyterian Mission Agency Board
ORGANIZER;CN="Susan Abraham":MAILTO:susan.abraham@pcusa.org
END:VEVENT
END:VCALENDAR