BEGIN:VCALENDAR
VERSION:2.0
PRODID:-//Presbyterian Mission Agency - ECPv6.7.0//NONSGML v1.0//EN
CALSCALE:GREGORIAN
METHOD:PUBLISH
X-WR-CALNAME:Presbyterian Mission Agency
X-ORIGINAL-URL:https://centernet.pcusa.org
X-WR-CALDESC:Events for Presbyterian Mission Agency
REFRESH-INTERVAL;VALUE=DURATION:PT1H
X-Robots-Tag:noindex
X-PUBLISHED-TTL:PT1H
BEGIN:VTIMEZONE
TZID:America/Kentucky/Louisville
BEGIN:DAYLIGHT
TZOFFSETFROM:-0500
TZOFFSETTO:-0400
TZNAME:EDT
DTSTART:20190310T070000
END:DAYLIGHT
BEGIN:STANDARD
TZOFFSETFROM:-0400
TZOFFSETTO:-0500
TZNAME:EST
DTSTART:20191103T060000
END:STANDARD
END:VTIMEZONE
BEGIN:VEVENT
DTSTART;TZID=America/Kentucky/Louisville:20190424T120000
DTEND;TZID=America/Kentucky/Louisville:20190424T140000
DTSTAMP:20260423T144831
CREATED:20190404T150718Z
LAST-MODIFIED:20190404T151839Z
UID:160982-1556107200-1556114400@centernet.pcusa.org
SUMMARY:PMA Board Called Meeting
DESCRIPTION:Zoom Meeting ETD\nCall Susan Abraham 502-569-5507 for details
URL:https://centernet.pcusa.org/event/pma-board-called-meeting-2/
LOCATION:Presbyterian Church (USA)\, 100 Witherspoon Street\, Louisville\, KY\, 40202\, United States
CATEGORIES:Presbyterian Mission Agency Board
ORGANIZER;CN="Susan Abraham":MAILTO:susan.abraham@pcusa.org
END:VEVENT
END:VCALENDAR