BEGIN:VCALENDAR
VERSION:2.0
PRODID:-//Presbyterian Mission Agency - ECPv6.7.0//NONSGML v1.0//EN
CALSCALE:GREGORIAN
METHOD:PUBLISH
X-WR-CALNAME:Presbyterian Mission Agency
X-ORIGINAL-URL:https://centernet.pcusa.org
X-WR-CALDESC:Events for Presbyterian Mission Agency
REFRESH-INTERVAL;VALUE=DURATION:PT1H
X-Robots-Tag:noindex
X-PUBLISHED-TTL:PT1H
BEGIN:VTIMEZONE
TZID:America/Kentucky/Louisville
BEGIN:DAYLIGHT
TZOFFSETFROM:-0500
TZOFFSETTO:-0400
TZNAME:EDT
DTSTART:20210314T070000
END:DAYLIGHT
BEGIN:STANDARD
TZOFFSETFROM:-0400
TZOFFSETTO:-0500
TZNAME:EST
DTSTART:20211107T060000
END:STANDARD
END:VTIMEZONE
BEGIN:VEVENT
DTSTART;TZID=America/Kentucky/Louisville:20210430T150000
DTEND;TZID=America/Kentucky/Louisville:20210430T160000
DTSTAMP:20260421T233530
CREATED:20210421T192101Z
LAST-MODIFIED:20210421T192101Z
UID:201975-1619794800-1619798400@centernet.pcusa.org
SUMMARY:Finance\, Operations\, and Budget (FOB)
DESCRIPTION:
URL:https://centernet.pcusa.org/event/finance-operations-and-budget-fob/
LOCATION:Zoom Meeting
CATEGORIES:PCUSA A Corp
ORGANIZER;CN="Alejandra Sherman":MAILTO:Alejandra.Sherman@pcusa.org
END:VEVENT
END:VCALENDAR