BEGIN:VCALENDAR
VERSION:2.0
PRODID:-//Presbyterian Mission Agency - ECPv6.7.0//NONSGML v1.0//EN
CALSCALE:GREGORIAN
METHOD:PUBLISH
X-ORIGINAL-URL:https://centernet.pcusa.org
X-WR-CALDESC:Events for Presbyterian Mission Agency
REFRESH-INTERVAL;VALUE=DURATION:PT1H
X-Robots-Tag:noindex
X-PUBLISHED-TTL:PT1H
BEGIN:VTIMEZONE
TZID:America/Kentucky/Louisville
BEGIN:DAYLIGHT
TZOFFSETFROM:-0500
TZOFFSETTO:-0400
TZNAME:EDT
DTSTART:20240310T070000
END:DAYLIGHT
BEGIN:STANDARD
TZOFFSETFROM:-0400
TZOFFSETTO:-0500
TZNAME:EST
DTSTART:20241103T060000
END:STANDARD
END:VTIMEZONE
BEGIN:VEVENT
DTSTART;VALUE=DATE:20241110
DTEND;VALUE=DATE:20241116
DTSTAMP:20260423T195502
CREATED:20240209T152911Z
LAST-MODIFIED:20240209T152911Z
UID:240281-1731196800-1731715199@centernet.pcusa.org
SUMMARY:PCCCA Annual Conference
DESCRIPTION:Presbyterian Church Camp and Conference Association https://www.pccca.net \nLocation: Zephyr Point\, Lake Tahoe
URL:https://centernet.pcusa.org/event/pccca-annual-conference-2/
CATEGORIES:Theology, Formation, and Evangelism
ORGANIZER;CN="Miatta Wilson":MAILTO:miatta.wilson@pcusa.org
END:VEVENT
BEGIN:VEVENT
DTSTART;TZID=America/Kentucky/Louisville:20241113T130000
DTEND;TZID=America/Kentucky/Louisville:20241113T140000
DTSTAMP:20260423T195502
CREATED:20240326T142956Z
LAST-MODIFIED:20240805T152448Z
UID:241802-1731502800-1731506400@centernet.pcusa.org
SUMMARY:Community Circle: Small Church
DESCRIPTION:Are you an educator\, volunteer\, pastor\, commissioned pastor (CRE\, CLP)\, that serves as a leader in a small church (less than 100 members)? Are you a mid-council leader that supports faith formation leaders in small churches?   \nYou are invited to register for this Community Circle\, our newest Faith Formation Leader Connection opportunity designed especially for those leaders in small churches. Offered six times March – November 2024\, come to every gathering\, or when you can\, but come to share in conversation and learn\, ask questions\, receive and share resources for ministry and support one another.  A one hour zoom gathering\, the times and dates vary so there is flexibility. Register once but register anytime. Each gathering will feature a question or topic just to get the conversation going related to Faith Formation leadership in small churches\, then discussion can go from there. So come ready to participate in the conversation.   \nRegister Here
URL:https://centernet.pcusa.org/event/community-circle-small-church-5/
CATEGORIES:Theology, Formation, and Evangelism
ORGANIZER;CN="Miatta Wilson":MAILTO:miatta.wilson@pcusa.org
END:VEVENT
END:VCALENDAR