BEGIN:VCALENDAR
VERSION:2.0
PRODID:-//Presbyterian Mission Agency - ECPv6.7.0//NONSGML v1.0//EN
CALSCALE:GREGORIAN
METHOD:PUBLISH
X-WR-CALNAME:Presbyterian Mission Agency
X-ORIGINAL-URL:https://centernet.pcusa.org
X-WR-CALDESC:Events for Presbyterian Mission Agency
REFRESH-INTERVAL;VALUE=DURATION:PT1H
X-Robots-Tag:noindex
X-PUBLISHED-TTL:PT1H
BEGIN:VTIMEZONE
TZID:America/Kentucky/Louisville
BEGIN:DAYLIGHT
TZOFFSETFROM:-0500
TZOFFSETTO:-0400
TZNAME:EDT
DTSTART:20240310T070000
END:DAYLIGHT
BEGIN:STANDARD
TZOFFSETFROM:-0400
TZOFFSETTO:-0500
TZNAME:EST
DTSTART:20241103T060000
END:STANDARD
END:VTIMEZONE
BEGIN:VEVENT
DTSTART;TZID=America/Kentucky/Louisville:20241019T130000
DTEND;TZID=America/Kentucky/Louisville:20241019T140000
DTSTAMP:20260423T212116
CREATED:20230929T121452Z
LAST-MODIFIED:20230929T121452Z
UID:235911-1729342800-1729346400@centernet.pcusa.org
SUMMARY:Vital Church Series
DESCRIPTION:
URL:https://centernet.pcusa.org/event/vital-church-series-8/
CATEGORIES:Theology, Formation, and Evangelism
END:VEVENT
END:VCALENDAR