BEGIN:VCALENDAR
VERSION:2.0
PRODID:-//Presbyterian Mission Agency - ECPv6.7.0//NONSGML v1.0//EN
CALSCALE:GREGORIAN
METHOD:PUBLISH
X-WR-CALNAME:Presbyterian Mission Agency
X-ORIGINAL-URL:https://centernet.pcusa.org
X-WR-CALDESC:Events for Presbyterian Mission Agency
REFRESH-INTERVAL;VALUE=DURATION:PT1H
X-Robots-Tag:noindex
X-PUBLISHED-TTL:PT1H
BEGIN:VTIMEZONE
TZID:America/Kentucky/Louisville
BEGIN:DAYLIGHT
TZOFFSETFROM:-0500
TZOFFSETTO:-0400
TZNAME:EDT
DTSTART:20240310T070000
END:DAYLIGHT
BEGIN:STANDARD
TZOFFSETFROM:-0400
TZOFFSETTO:-0500
TZNAME:EST
DTSTART:20241103T060000
END:STANDARD
END:VTIMEZONE
BEGIN:VEVENT
DTSTART;TZID=America/Kentucky/Louisville:20240123T130000
DTEND;TZID=America/Kentucky/Louisville:20240123T170000
DTSTAMP:20260424T091836
CREATED:20231025T154527Z
LAST-MODIFIED:20231025T154840Z
UID:236890-1706014800-1706029200@centernet.pcusa.org
SUMMARY:APCE Pre-Event. See\, Share and Stretch!
DESCRIPTION:The Office of Presbyterian Youth and Triennium presents a special pre-event at the APCE annual event. “See\, Share\, and Stretch Through Stories and Storytelling! Storytelling and Story-catching as Spiritual Practice and Leader Development” \nA pre-event gathering for all faith formation leaders! Youth\, children\, intergenerational\, older adult\, young adult … church wide/community wide. Participants will learn from well known author\, instructor\, storyteller and spiritual director\, Mark Yaconelli. With the theological framework of “When Did We See You?” leaders will participate in conversations\, stories\, exercises and practices that will enhance personal and professional learning of how stories will save us\, shape us\, and nudge us to deeper awareness of justice\, injustice\, discipleship and meaningfulness in ministry within the kin-dom of God. \nRegistration Fee: $100.00
URL:https://centernet.pcusa.org/event/apce-pre-event-see-share-and-stretch/
CATEGORIES:Presbyterian Youth Triennium,Theology, Formation, and Evangelism
ORGANIZER;CN="Heather Leoncini":MAILTO:heather.leoncini@pcusa.org
END:VEVENT
END:VCALENDAR