BEGIN:VCALENDAR
VERSION:2.0
PRODID:-//Presbyterian Mission Agency - ECPv6.7.0//NONSGML v1.0//EN
CALSCALE:GREGORIAN
METHOD:PUBLISH
X-WR-CALNAME:Presbyterian Mission Agency
X-ORIGINAL-URL:https://centernet.pcusa.org
X-WR-CALDESC:Events for Presbyterian Mission Agency
REFRESH-INTERVAL;VALUE=DURATION:PT1H
X-Robots-Tag:noindex
X-PUBLISHED-TTL:PT1H
BEGIN:VTIMEZONE
TZID:America/Kentucky/Louisville
BEGIN:DAYLIGHT
TZOFFSETFROM:-0500
TZOFFSETTO:-0400
TZNAME:EDT
DTSTART:20230312T070000
END:DAYLIGHT
BEGIN:STANDARD
TZOFFSETFROM:-0400
TZOFFSETTO:-0500
TZNAME:EST
DTSTART:20231105T060000
END:STANDARD
END:VTIMEZONE
BEGIN:VEVENT
DTSTART;VALUE=DATE:20230530
DTEND;VALUE=DATE:20230603
DTSTAMP:20260424T183044
CREATED:20230413T154339Z
LAST-MODIFIED:20230413T154339Z
UID:230034-1685404800-1685750399@centernet.pcusa.org
SUMMARY:Annual Retreat for 1001 Leaders
DESCRIPTION:Annual retreat for leaders of new worshiping communities who are a part of the 1001 apprenticeship and residency program.
URL:https://centernet.pcusa.org/event/annual-retreat-for-1001-leaders/
LOCATION:Ghost Ranch\, Abiquiu\, NM
CATEGORIES:Theology, Formation, and Evangelism
ORGANIZER;CN="Kirstie Johnson":MAILTO:kirstie.johnson@pcusa.org
END:VEVENT
END:VCALENDAR