BEGIN:VCALENDAR
VERSION:2.0
PRODID:-//Presbyterian Mission Agency - ECPv6.7.0//NONSGML v1.0//EN
CALSCALE:GREGORIAN
METHOD:PUBLISH
X-WR-CALNAME:Presbyterian Mission Agency
X-ORIGINAL-URL:https://centernet.pcusa.org
X-WR-CALDESC:Events for Presbyterian Mission Agency
REFRESH-INTERVAL;VALUE=DURATION:PT1H
X-Robots-Tag:noindex
X-PUBLISHED-TTL:PT1H
BEGIN:VTIMEZONE
TZID:America/Kentucky/Louisville
BEGIN:DAYLIGHT
TZOFFSETFROM:-0500
TZOFFSETTO:-0400
TZNAME:EDT
DTSTART:20230312T070000
END:DAYLIGHT
BEGIN:STANDARD
TZOFFSETFROM:-0400
TZOFFSETTO:-0500
TZNAME:EST
DTSTART:20231105T060000
END:STANDARD
END:VTIMEZONE
BEGIN:VEVENT
DTSTART;VALUE=DATE:20230507
DTEND;VALUE=DATE:20230514
DTSTAMP:20260424T194758
CREATED:20230213T202508Z
LAST-MODIFIED:20230213T202508Z
UID:227811-1683417600-1684022399@centernet.pcusa.org
SUMMARY:Older Adult Week
DESCRIPTION:Older Adult Week – for more information\, go to: https://poamn.org/older-adult-month/ \n 
URL:https://centernet.pcusa.org/event/older-adult-week/
CATEGORIES:Theology, Formation, and Evangelism
ORGANIZER;CN="Stephanie Fritz":MAILTO:stephanie.fritz@pcusa.org
END:VEVENT
END:VCALENDAR