BEGIN:VCALENDAR
VERSION:2.0
PRODID:-//Presbyterian Mission Agency - ECPv6.7.0//NONSGML v1.0//EN
CALSCALE:GREGORIAN
METHOD:PUBLISH
X-ORIGINAL-URL:https://centernet.pcusa.org
X-WR-CALDESC:Events for Presbyterian Mission Agency
REFRESH-INTERVAL;VALUE=DURATION:PT1H
X-Robots-Tag:noindex
X-PUBLISHED-TTL:PT1H
BEGIN:VTIMEZONE
TZID:America/Kentucky/Louisville
BEGIN:DAYLIGHT
TZOFFSETFROM:-0500
TZOFFSETTO:-0400
TZNAME:EDT
DTSTART:20230312T070000
END:DAYLIGHT
BEGIN:STANDARD
TZOFFSETFROM:-0400
TZOFFSETTO:-0500
TZNAME:EST
DTSTART:20231105T060000
END:STANDARD
END:VTIMEZONE
BEGIN:VEVENT
DTSTART;TZID=America/Kentucky/Louisville:20230506T100000
DTEND;TZID=America/Kentucky/Louisville:20230506T170000
DTSTAMP:20260424T194754
CREATED:20230410T153857Z
LAST-MODIFIED:20230410T154153Z
UID:229900-1683367200-1683392400@centernet.pcusa.org
SUMMARY:Exploring Missional Leadership
DESCRIPTION:Starting a new worshiping community is hard work that requires particular competencies in order to flourish. How can you know whether God has given you the gifts needed to start a new worshiping community? How can we all identify and encourage potential new worshiping community leaders? If God is calling us to start a new worshiping community\, how can we best prepare? Exploring missional leadership answers these questions. \nExploring Missional Leadership is a daylong event hosted by mid councils and seminaries and led by 1001 national staff. Through presentations\, active learning and group conversation\, participants will be introduced to the nature of missional church planting and the competencies needed to do that work. Participants discerning a call to start a new worshiping community will be guided in identifying next steps to take in their own skills development. Participants involved in overseeing NWC work will be guided in ways to identify and cultivate potential new worshiping community leaders in their presbytery\, congregation or circle of influence.
URL:https://centernet.pcusa.org/event/exploring-missional-leadership/
LOCATION:Lacey Presbyterian Church\, 3045 Carpenter Rd. SE\, Lacey\, WA\, 98503\, United States
CATEGORIES:Theology, Formation, and Evangelism
ORGANIZER;CN="Michael Gehrling":MAILTO:Michael.Gehrling@pcusa.org
END:VEVENT
END:VCALENDAR