BEGIN:VCALENDAR
VERSION:2.0
PRODID:-//Presbyterian Mission Agency - ECPv6.7.0//NONSGML v1.0//EN
CALSCALE:GREGORIAN
METHOD:PUBLISH
X-WR-CALNAME:Presbyterian Mission Agency
X-ORIGINAL-URL:https://centernet.pcusa.org
X-WR-CALDESC:Events for Presbyterian Mission Agency
REFRESH-INTERVAL;VALUE=DURATION:PT1H
X-Robots-Tag:noindex
X-PUBLISHED-TTL:PT1H
BEGIN:VTIMEZONE
TZID:America/Kentucky/Louisville
BEGIN:DAYLIGHT
TZOFFSETFROM:-0500
TZOFFSETTO:-0400
TZNAME:EDT
DTSTART:20230312T070000
END:DAYLIGHT
BEGIN:STANDARD
TZOFFSETFROM:-0400
TZOFFSETTO:-0500
TZNAME:EST
DTSTART:20231105T060000
END:STANDARD
END:VTIMEZONE
BEGIN:VEVENT
DTSTART;TZID=America/Kentucky/Louisville:20230428T080000
DTEND;TZID=America/Kentucky/Louisville:20230503T170000
DTSTAMP:20260424T212058
CREATED:20230412T190344Z
LAST-MODIFIED:20230412T190344Z
UID:229995-1682668800-1683133200@centernet.pcusa.org
SUMMARY:Lament and the Doctrine of Discovery
DESCRIPTION:The Reformed Institute of Washington D.C. is hosting an event on lament and the Doctrine of Discovery and a meeting of the Consultation on Common Texts.
URL:https://centernet.pcusa.org/event/lament-and-the-doctrine-of-discovery/
LOCATION:Washington DC and Alexandria\, VA
CATEGORIES:Theology, Formation, and Evangelism
ORGANIZER;CN="Kirstie Johnson":MAILTO:kirstie.johnson@pcusa.org
END:VEVENT
END:VCALENDAR