BEGIN:VCALENDAR
VERSION:2.0
PRODID:-//Presbyterian Mission Agency - ECPv6.7.0//NONSGML v1.0//EN
CALSCALE:GREGORIAN
METHOD:PUBLISH
X-ORIGINAL-URL:https://centernet.pcusa.org
X-WR-CALDESC:Events for Presbyterian Mission Agency
REFRESH-INTERVAL;VALUE=DURATION:PT1H
X-Robots-Tag:noindex
X-PUBLISHED-TTL:PT1H
BEGIN:VTIMEZONE
TZID:America/Kentucky/Louisville
BEGIN:DAYLIGHT
TZOFFSETFROM:-0500
TZOFFSETTO:-0400
TZNAME:EDT
DTSTART:20230312T070000
END:DAYLIGHT
BEGIN:STANDARD
TZOFFSETFROM:-0400
TZOFFSETTO:-0500
TZNAME:EST
DTSTART:20231105T060000
END:STANDARD
END:VTIMEZONE
BEGIN:VEVENT
DTSTART;TZID=America/Kentucky/Louisville:20230422T170000
DTEND;TZID=America/Kentucky/Louisville:20230426T170000
DTSTAMP:20260424T212241
CREATED:20230411T192440Z
LAST-MODIFIED:20230411T192522Z
UID:229960-1682182800-1682528400@centernet.pcusa.org
SUMMARY:Presbyterian Association of Homes & Services for the Aging (PAHSA)
DESCRIPTION:Annual meeting of the Presbyterian Association of Homes & Services for the Aging (PAHSA) in La Jolla\, CA.
URL:https://centernet.pcusa.org/event/presbyterian-association-of-homes-services-for-the-aging-pahsa/
CATEGORIES:Theology, Formation, and Evangelism
ORGANIZER;CN="Kirstie Johnson":MAILTO:kirstie.johnson@pcusa.org
END:VEVENT
BEGIN:VEVENT
DTSTART;TZID=America/Kentucky/Louisville:20230425T080000
DTEND;TZID=America/Kentucky/Louisville:20230427T200000
DTSTAMP:20260424T212241
CREATED:20221004T123550Z
LAST-MODIFIED:20230412T183534Z
UID:223533-1682409600-1682625600@centernet.pcusa.org
SUMMARY:What’s the Secret Sauce?
DESCRIPTION:This event will highlight the gifts of immigrant communities and the possibilities inherent in partnering with these vibrant churches.  It targets mid council leadership and congregations who partner with immigrant churches.  It is also the launch of Accents: Emphasis on Immigrant NWCs written by 3 seasoned immigrant NWC leaders.
URL:https://centernet.pcusa.org/event/whats-the-secret-sauce/
LOCATION:Atlanta\, GA
CATEGORIES:Theology, Formation, and Evangelism
ORGANIZER;CN="Eva Slayton":MAILTO:eva.slayton@pcusa.org
END:VEVENT
BEGIN:VEVENT
DTSTART;TZID=America/Kentucky/Louisville:20230425T200000
DTEND;TZID=America/Kentucky/Louisville:20230425T210000
DTSTAMP:20260424T212241
CREATED:20230209T180127Z
LAST-MODIFIED:20230209T180127Z
UID:227655-1682452800-1682456400@centernet.pcusa.org
SUMMARY:Faith Formation Leader Connection
DESCRIPTION:April Topic: Adult Resources – One-hour sessions: to share resources on the topic and then open to general conversation\, questions\, and sharing \nWith Stephanie Fritz\, Coordinator\, Office of Christian Formation and Miatta Wilson\, Mission Associate\, Office of Christian Formation \nZoom link: https://zoom.us/j/92294289022?pwd=L3c1VlQ3VU9zVUU5cEFaMTZPYnRUUT09 \nMeeting ID: 922 9428 9022\nPasscode: 165642
URL:https://centernet.pcusa.org/event/faith-formation-leader-connection-6/
CATEGORIES:Theology, Formation, and Evangelism
ORGANIZER;CN="Miatta Wilson":MAILTO:miatta.wilson@pcusa.org
END:VEVENT
END:VCALENDAR