BEGIN:VCALENDAR
VERSION:2.0
PRODID:-//Presbyterian Mission Agency - ECPv6.7.0//NONSGML v1.0//EN
CALSCALE:GREGORIAN
METHOD:PUBLISH
X-WR-CALNAME:Presbyterian Mission Agency
X-ORIGINAL-URL:https://centernet.pcusa.org
X-WR-CALDESC:Events for Presbyterian Mission Agency
REFRESH-INTERVAL;VALUE=DURATION:PT1H
X-Robots-Tag:noindex
X-PUBLISHED-TTL:PT1H
BEGIN:VTIMEZONE
TZID:America/Kentucky/Louisville
BEGIN:DAYLIGHT
TZOFFSETFROM:-0500
TZOFFSETTO:-0400
TZNAME:EDT
DTSTART:20240310T070000
END:DAYLIGHT
BEGIN:STANDARD
TZOFFSETFROM:-0400
TZOFFSETTO:-0500
TZNAME:EST
DTSTART:20241103T060000
END:STANDARD
END:VTIMEZONE
BEGIN:VEVENT
DTSTART;TZID=America/Kentucky/Louisville:20240905T130000
DTEND;TZID=America/Kentucky/Louisville:20240905T140000
DTSTAMP:20260423T212037
CREATED:20240802T171827Z
LAST-MODIFIED:20240802T171827Z
UID:245813-1725541200-1725544800@centernet.pcusa.org
SUMMARY:Faith Formation Leader Connection Resource Zoom
DESCRIPTION:What’s New?\nA Christian Formation resourcing Zoom with time to share what’s new\, what’s in season\, and ask what you are looking for. One registration link with two times to choose from\, a daytime or evening meeting.
URL:https://centernet.pcusa.org/event/faith-formation-leader-connection-resource-zoom-5/
CATEGORIES:Theology, Formation, and Evangelism
ORGANIZER;CN="Miatta Wilson":MAILTO:miatta.wilson@pcusa.org
END:VEVENT
BEGIN:VEVENT
DTSTART;TZID=America/Kentucky/Louisville:20240910T130000
DTEND;TZID=America/Kentucky/Louisville:20240910T140000
DTSTAMP:20260423T212037
CREATED:20240613T162924Z
LAST-MODIFIED:20240805T152239Z
UID:244405-1725973200-1725976800@centernet.pcusa.org
SUMMARY:Community Circle: Disability Inclusion
DESCRIPTION:This Community Circle will be an opportunity to talk about how to be more intentional to include people with disabilities in our faith communities so that all feel they belong. Rev. Sarah VanderZee McKenney and Rev. Deborah Huggins join us for this conversation as we explore concrete practices and learn about resources.   \nRegister here: https://cfportal.churchcenter.com/registrations/events/2344885 \n 
URL:https://centernet.pcusa.org/event/community-circle-disability-inclusion/
CATEGORIES:Theology, Formation, and Evangelism
ORGANIZER;CN="Miatta Wilson":MAILTO:miatta.wilson@pcusa.org
END:VEVENT
BEGIN:VEVENT
DTSTART;TZID=America/Kentucky/Louisville:20240924T090000
DTEND;TZID=America/Kentucky/Louisville:20240925T120000
DTSTAMP:20260423T212037
CREATED:20240812T163936Z
LAST-MODIFIED:20240812T163936Z
UID:246039-1727168400-1727265600@centernet.pcusa.org
SUMMARY:COTE Stated Meeting
DESCRIPTION:The COTE Fall 2024 Stated Meeting will be held September 24-25\, 2024 on the Union Presbyterian Seminary\, Charlotte campus.
URL:https://centernet.pcusa.org/event/cote-stated-meeting-5/
CATEGORIES:Theology, Formation, and Evangelism
END:VEVENT
END:VCALENDAR