BEGIN:VCALENDAR
VERSION:2.0
PRODID:-//Presbyterian Mission Agency - ECPv6.7.0//NONSGML v1.0//EN
CALSCALE:GREGORIAN
METHOD:PUBLISH
X-ORIGINAL-URL:https://centernet.pcusa.org
X-WR-CALDESC:Events for Presbyterian Mission Agency
REFRESH-INTERVAL;VALUE=DURATION:PT1H
X-Robots-Tag:noindex
X-PUBLISHED-TTL:PT1H
BEGIN:VTIMEZONE
TZID:America/Kentucky/Louisville
BEGIN:DAYLIGHT
TZOFFSETFROM:-0500
TZOFFSETTO:-0400
TZNAME:EDT
DTSTART:20230312T070000
END:DAYLIGHT
BEGIN:STANDARD
TZOFFSETFROM:-0400
TZOFFSETTO:-0500
TZNAME:EST
DTSTART:20231105T060000
END:STANDARD
END:VTIMEZONE
BEGIN:VEVENT
DTSTART;TZID=America/Kentucky/Louisville:20231012T130000
DTEND;TZID=America/Kentucky/Louisville:20231012T140000
DTSTAMP:20260424T115948
CREATED:20230209T182808Z
LAST-MODIFIED:20230209T182808Z
UID:227677-1697115600-1697119200@centernet.pcusa.org
SUMMARY:Faith Formation Leader Connection
DESCRIPTION:October Topic: Training Leaders – One-hour sessions: to share resources on the topic and then open to general conversation\, questions\, and sharing \nWith Stephanie Fritz\, Coordinator\, Office of Christian Formation and Miatta Wilson\, Mission Associate\, Office of Christian Formation \nZoom link: https://zoom.us/j/92294289022?pwd=L3c1VlQ3VU9zVUU5cEFaMTZPYnRUUT09 \nMeeting ID: 922 9428 9022\nPasscode: 165642
URL:https://centernet.pcusa.org/event/faith-formation-leader-connection-17/
CATEGORIES:Theology, Formation, and Evangelism
ORGANIZER;CN="Miatta Wilson":MAILTO:miatta.wilson@pcusa.org
END:VEVENT
BEGIN:VEVENT
DTSTART;VALUE=DATE:20231023
DTEND;VALUE=DATE:20231030
DTSTAMP:20260424T115948
CREATED:20231025T144905Z
LAST-MODIFIED:20231025T145147Z
UID:236885-1698019200-1698623999@centernet.pcusa.org
SUMMARY:d365.org The Way of Peace
DESCRIPTION:October 23 – 29\, our devotional ministry\, D365.org\, will offer a special series to reflect on the violence in the Middle East and around the globe. Featuring a team of writers — Christian pastors and advocates with connections to Palestine\, Israel\, Armenia\, and Ukraine\, as well as a Jewish Rabbi — all reflecting on the theme\, “The Way of Peace.” \nSpecial daily devotion series for a week. Available online at https://d365.org/ or on the d365 app.
URL:https://centernet.pcusa.org/event/d365-org-the-way-of-peace/
CATEGORIES:Presbyterian Youth Triennium,Theology, Formation, and Evangelism
ORGANIZER;CN="Heather Leoncini":MAILTO:heather.leoncini@pcusa.org
END:VEVENT
BEGIN:VEVENT
DTSTART;TZID=America/Kentucky/Louisville:20231024T200000
DTEND;TZID=America/Kentucky/Louisville:20231024T210000
DTSTAMP:20260424T115948
CREATED:20230209T182945Z
LAST-MODIFIED:20230209T182945Z
UID:227679-1698177600-1698181200@centernet.pcusa.org
SUMMARY:Faith Formation Leader Connection
DESCRIPTION:October Topic: Training Leaders – One-hour sessions: to share resources on the topic and then open to general conversation\, questions\, and sharing \nWith Stephanie Fritz\, Coordinator\, Office of Christian Formation and Miatta Wilson\, Mission Associate\, Office of Christian Formation \nZoom link: https://zoom.us/j/92294289022?pwd=L3c1VlQ3VU9zVUU5cEFaMTZPYnRUUT09 \nMeeting ID: 922 9428 9022\nPasscode: 165642
URL:https://centernet.pcusa.org/event/faith-formation-leader-connection-18/
CATEGORIES:Theology, Formation, and Evangelism
ORGANIZER;CN="Miatta Wilson":MAILTO:miatta.wilson@pcusa.org
END:VEVENT
BEGIN:VEVENT
DTSTART;TZID=America/Kentucky/Louisville:20231028T090000
DTEND;TZID=America/Kentucky/Louisville:20231028T150000
DTSTAMP:20260424T115948
CREATED:20230905T163723Z
LAST-MODIFIED:20230905T163917Z
UID:234996-1698483600-1698505200@centernet.pcusa.org
SUMMARY:Exploring Missional Leadership - Plains and Peaks Presbytery
DESCRIPTION:(EML) is a free daylong event led by 1001 national staff. Through presentations\, active learning and group conversation\, participants will be introduced to the nature of entrepreneurial ministries and the competencies needed to do that work. Individuals discerning a call to start a new worshiping community or other ministry will be guided in identifying the next steps to take in their own skills development. Participants involved in presbytery and church leadership will be guided in ways to identify and cultivate potential new worshiping community leaders and other innovators in their presbytery\, congregation or circle of influence. \nWho is EML for?\n• Individuals discerning a potential call to start a new worshiping community or other new ministry.\n• Pastors and other church leaders seeking to foster innovation in their congregations.\n• Mid council staff and leaders\, including members of 1001 New Worshiping Community Commissions\, Committees on Preparation for Ministry and Committees on Ministry.
URL:https://centernet.pcusa.org/event/exploring-missional-leadership-plains-and-peaks-presbytery/
CATEGORIES:Theology, Formation, and Evangelism
ORGANIZER;CN="Michael Gehrling":MAILTO:Michael.Gehrling@pcusa.org
END:VEVENT
END:VCALENDAR