BEGIN:VCALENDAR
VERSION:2.0
PRODID:-//Presbyterian Mission Agency - ECPv6.7.0//NONSGML v1.0//EN
CALSCALE:GREGORIAN
METHOD:PUBLISH
X-WR-CALNAME:Presbyterian Mission Agency
X-ORIGINAL-URL:https://centernet.pcusa.org
X-WR-CALDESC:Events for Presbyterian Mission Agency
REFRESH-INTERVAL;VALUE=DURATION:PT1H
X-Robots-Tag:noindex
X-PUBLISHED-TTL:PT1H
BEGIN:VTIMEZONE
TZID:America/Kentucky/Louisville
BEGIN:DAYLIGHT
TZOFFSETFROM:-0500
TZOFFSETTO:-0400
TZNAME:EDT
DTSTART:20230312T070000
END:DAYLIGHT
BEGIN:STANDARD
TZOFFSETFROM:-0400
TZOFFSETTO:-0500
TZNAME:EST
DTSTART:20231105T060000
END:STANDARD
END:VTIMEZONE
BEGIN:VEVENT
DTSTART;VALUE=DATE:20230910
DTEND;VALUE=DATE:20230917
DTSTAMP:20260424T131629
CREATED:20230213T202910Z
LAST-MODIFIED:20230213T202910Z
UID:227813-1694304000-1694908799@centernet.pcusa.org
SUMMARY:Christian Formation Week
DESCRIPTION:Christian Formation Week – For more information\, go to: https://www.presbyterianmission.org/ministries/theology-formation-and-evangelism/office-of-christian-formation/christian-formation-week/
URL:https://centernet.pcusa.org/event/christian-formation-week/
CATEGORIES:Theology, Formation, and Evangelism
ORGANIZER;CN="Stephanie Fritz":MAILTO:stephanie.fritz@pcusa.org
END:VEVENT
BEGIN:VEVENT
DTSTART;VALUE=DATE:20230914
DTEND;VALUE=DATE:20230916
DTSTAMP:20260424T131629
CREATED:20230209T134722Z
LAST-MODIFIED:20230209T135258Z
UID:227631-1694649600-1694822399@centernet.pcusa.org
SUMMARY:POAMN Conference
DESCRIPTION:On September 14 and 15\, join us at Grosse Ile Presbyterian Church outside of Detroit\, Michigan. We are putting together an exciting lineup of presenters and worship leaders. \nClick here for more information.
URL:https://centernet.pcusa.org/event/poamn-conference/
CATEGORIES:Theology, Formation, and Evangelism
ORGANIZER;CN="Stephanie Fritz":MAILTO:stephanie.fritz@pcusa.org
END:VEVENT
BEGIN:VEVENT
DTSTART;TZID=America/Kentucky/Louisville:20230914T130000
DTEND;TZID=America/Kentucky/Louisville:20230914T140000
DTSTAMP:20260424T131629
CREATED:20230209T182307Z
LAST-MODIFIED:20230209T182307Z
UID:227673-1694696400-1694700000@centernet.pcusa.org
SUMMARY:Faith Formation Leader Connection
DESCRIPTION:September Topic: Advent Resources – One-hour sessions: to share resources on the topic and then open to general conversation\, questions\, and sharing \nWith Stephanie Fritz\, Coordinator\, Office of Christian Formation and Miatta Wilson\, Mission Associate\, Office of Christian Formation \nZoom link: https://zoom.us/j/92294289022?pwd=L3c1VlQ3VU9zVUU5cEFaMTZPYnRUUT09 \nMeeting ID: 922 9428 9022\nPasscode: 165642
URL:https://centernet.pcusa.org/event/faith-formation-leader-connection-15/
CATEGORIES:Theology, Formation, and Evangelism
ORGANIZER;CN="Miatta Wilson":MAILTO:miatta.wilson@pcusa.org
END:VEVENT
BEGIN:VEVENT
DTSTART;VALUE=DATE:20230917
DTEND;VALUE=DATE:20230923
DTSTAMP:20260424T131629
CREATED:20230810T125339Z
LAST-MODIFIED:20230810T125435Z
UID:234058-1694908800-1695427199@centernet.pcusa.org
SUMMARY:1001 Discerning Missional Leadership
DESCRIPTION:We are holding a 1001 Discerning Missional Leadership assessment in partnership with the presbytery of San Diego.\n(In Person)
URL:https://centernet.pcusa.org/event/1001-discerning-missional-leadership/
CATEGORIES:Theology, Formation, and Evangelism
ORGANIZER;CN="Michael Gehrling":MAILTO:Michael.Gehrling@pcusa.org
END:VEVENT
BEGIN:VEVENT
DTSTART;TZID=America/Kentucky/Louisville:20230918T090000
DTEND;TZID=America/Kentucky/Louisville:20230920T170000
DTSTAMP:20260424T131629
CREATED:20230907T175946Z
LAST-MODIFIED:20230907T180020Z
UID:235091-1695027600-1695229200@centernet.pcusa.org
SUMMARY:COTE Stated Meeting
DESCRIPTION:This meeting is a Stated Meeting of the Committee on Theological Education.
URL:https://centernet.pcusa.org/event/cote-stated-meeting-3/
CATEGORIES:Theology, Formation, and Evangelism
END:VEVENT
BEGIN:VEVENT
DTSTART;TZID=America/Kentucky/Louisville:20230919T130000
DTEND;TZID=America/Kentucky/Louisville:20230919T140000
DTSTAMP:20260424T131629
CREATED:20230929T121356Z
LAST-MODIFIED:20230929T121356Z
UID:235909-1695128400-1695132000@centernet.pcusa.org
SUMMARY:Vital Church Series
DESCRIPTION:
URL:https://centernet.pcusa.org/event/vital-church-series-7/
CATEGORIES:Theology, Formation, and Evangelism
END:VEVENT
END:VCALENDAR