BEGIN:VCALENDAR
VERSION:2.0
PRODID:-//Presbyterian Mission Agency - ECPv6.7.0//NONSGML v1.0//EN
CALSCALE:GREGORIAN
METHOD:PUBLISH
X-WR-CALNAME:Presbyterian Mission Agency
X-ORIGINAL-URL:https://centernet.pcusa.org
X-WR-CALDESC:Events for Presbyterian Mission Agency
REFRESH-INTERVAL;VALUE=DURATION:PT1H
X-Robots-Tag:noindex
X-PUBLISHED-TTL:PT1H
BEGIN:VTIMEZONE
TZID:America/Kentucky/Louisville
BEGIN:DAYLIGHT
TZOFFSETFROM:-0500
TZOFFSETTO:-0400
TZNAME:EDT
DTSTART:20230312T070000
END:DAYLIGHT
BEGIN:STANDARD
TZOFFSETFROM:-0400
TZOFFSETTO:-0500
TZNAME:EST
DTSTART:20231105T060000
END:STANDARD
END:VTIMEZONE
BEGIN:VEVENT
DTSTART;VALUE=DATE:20230806
DTEND;VALUE=DATE:20230807
DTSTAMP:20260424T143124
CREATED:20230216T141434Z
LAST-MODIFIED:20230216T141434Z
UID:227917-1691280000-1691366399@centernet.pcusa.org
SUMMARY:College and Young Adult Sunday
DESCRIPTION:
URL:https://centernet.pcusa.org/event/college-and-young-adult-sunday/
CATEGORIES:Theology, Formation, and Evangelism
ORGANIZER;CN="Stephanie Fritz":MAILTO:stephanie.fritz@pcusa.org
END:VEVENT
BEGIN:VEVENT
DTSTART;TZID=America/Kentucky/Louisville:20230810T130000
DTEND;TZID=America/Kentucky/Louisville:20230810T140000
DTSTAMP:20260424T143124
CREATED:20230209T181520Z
LAST-MODIFIED:20230209T181520Z
UID:227669-1691672400-1691676000@centernet.pcusa.org
SUMMARY:Faith Formation Leader Connection
DESCRIPTION:August Topic: Youth Resources – One-hour sessions: to share resources on the topic and then open to general conversation\, questions\, and sharing \nWith Stephanie Fritz\, Coordinator\, Office of Christian Formation and Miatta Wilson\, Mission Associate\, Office of Christian Formation \nZoom link: https://zoom.us/j/92294289022?pwd=L3c1VlQ3VU9zVUU5cEFaMTZPYnRUUT09 \nMeeting ID: 922 9428 9022\nPasscode: 165642
URL:https://centernet.pcusa.org/event/faith-formation-leader-connection-13/
CATEGORIES:Theology, Formation, and Evangelism
ORGANIZER;CN="Miatta Wilson":MAILTO:miatta.wilson@pcusa.org
END:VEVENT
BEGIN:VEVENT
DTSTART;TZID=America/Kentucky/Louisville:20230816T130000
DTEND;TZID=America/Kentucky/Louisville:20230816T140000
DTSTAMP:20260424T143124
CREATED:20230811T191357Z
LAST-MODIFIED:20230811T193203Z
UID:234165-1692190800-1692194400@centernet.pcusa.org
SUMMARY:Community Circle: Lilly Endowment Parenting and Caregiver Initiative
DESCRIPTION:This Community Circle will be a place to find out more about the plans the Office of Christian Formation has around the Lilly Endowment Christian Parenting and Caregiver grant received. \nRegistration Link: https://zoom.us/meeting/register/tJEtduygrz8vGtdg9dPD330N9IZpjgIThZC7#/registration \n 
URL:https://centernet.pcusa.org/event/community-circle-lilly-endowment-parenting-and-caregiver-initiative/
CATEGORIES:Theology, Formation, and Evangelism
ORGANIZER;CN="Stephanie Fritz":MAILTO:stephanie.fritz@pcusa.org
END:VEVENT
BEGIN:VEVENT
DTSTART;TZID=America/Kentucky/Louisville:20230819T130000
DTEND;TZID=America/Kentucky/Louisville:20230819T140000
DTSTAMP:20260424T143124
CREATED:20230929T121252Z
LAST-MODIFIED:20230929T121252Z
UID:235907-1692450000-1692453600@centernet.pcusa.org
SUMMARY:Vital Church Series
DESCRIPTION:
URL:https://centernet.pcusa.org/event/vital-church-series-6/
CATEGORIES:Theology, Formation, and Evangelism
ORGANIZER;CN="Veronica Cannon":MAILTO:mailto:veronica.cannon@pcusa.org
END:VEVENT
BEGIN:VEVENT
DTSTART;TZID=America/Kentucky/Louisville:20230822T200000
DTEND;TZID=America/Kentucky/Louisville:20230822T210000
DTSTAMP:20260424T143124
CREATED:20230209T181658Z
LAST-MODIFIED:20230209T181819Z
UID:227671-1692734400-1692738000@centernet.pcusa.org
SUMMARY:Faith Formation Leader Connection
DESCRIPTION:August Topic: Youth Resources – One-hour sessions: to share resources on the topic and then open to general conversation\, questions\, and sharing \nWith Stephanie Fritz\, Coordinator\, Office of Christian Formation and Miatta Wilson\, Mission Associate\, Office of Christian Formation \nZoom link: https://zoom.us/j/92294289022?pwd=L3c1VlQ3VU9zVUU5cEFaMTZPYnRUUT09 \nMeeting ID: 922 9428 9022\nPasscode: 165642
URL:https://centernet.pcusa.org/event/faith-formation-leader-connection-14/
CATEGORIES:Theology, Formation, and Evangelism
ORGANIZER;CN="Miatta Wilson":MAILTO:miatta.wilson@pcusa.org
END:VEVENT
END:VCALENDAR