BEGIN:VCALENDAR
VERSION:2.0
PRODID:-//Presbyterian Mission Agency - ECPv6.7.0//NONSGML v1.0//EN
CALSCALE:GREGORIAN
METHOD:PUBLISH
X-WR-CALNAME:Presbyterian Mission Agency
X-ORIGINAL-URL:https://centernet.pcusa.org
X-WR-CALDESC:Events for Presbyterian Mission Agency
REFRESH-INTERVAL;VALUE=DURATION:PT1H
X-Robots-Tag:noindex
X-PUBLISHED-TTL:PT1H
BEGIN:VTIMEZONE
TZID:America/Kentucky/Louisville
BEGIN:DAYLIGHT
TZOFFSETFROM:-0500
TZOFFSETTO:-0400
TZNAME:EDT
DTSTART:20230312T070000
END:DAYLIGHT
BEGIN:STANDARD
TZOFFSETFROM:-0400
TZOFFSETTO:-0500
TZNAME:EST
DTSTART:20231105T060000
END:STANDARD
END:VTIMEZONE
BEGIN:VEVENT
DTSTART;TZID=America/Kentucky/Louisville:20230209T130000
DTEND;TZID=America/Kentucky/Louisville:20230209T140000
DTSTAMP:20260424T224346
CREATED:20230209T143125Z
LAST-MODIFIED:20230209T143154Z
UID:227642-1675947600-1675951200@centernet.pcusa.org
SUMMARY:Faith Formation Leader Connection
DESCRIPTION:February Topic: Intergenerational Ministry – One-hour sessions: to share resources on the topic and then open to general conversation\, questions\, and sharing \nWith Stephanie Fritz\, Coordinator\, Office of Christian Formation and Miatta Wilson\, Mission Associate\, Office of Christian Formation \nZoom link: https://zoom.us/j/92294289022?pwd=L3c1VlQ3VU9zVUU5cEFaMTZPYnRUUT09 \nMeeting ID: 922 9428 9022\nPasscode: 165642
URL:https://centernet.pcusa.org/event/faith-formation-leader-connection/
CATEGORIES:Theology, Formation, and Evangelism
ORGANIZER;CN="Miatta Wilson":MAILTO:miatta.wilson@pcusa.org
END:VEVENT
BEGIN:VEVENT
DTSTART;VALUE=DATE:20230220
DTEND;VALUE=DATE:20230225
DTSTAMP:20260424T224346
CREATED:20230209T141408Z
LAST-MODIFIED:20230209T141408Z
UID:227636-1676851200-1677283199@centernet.pcusa.org
SUMMARY:PCCCA Board Meeting
DESCRIPTION:PCCCA Board Meeting to be held at the El Guacio Camp\, Puerto Rico.
URL:https://centernet.pcusa.org/event/pccca-board-meeting/
CATEGORIES:Theology, Formation, and Evangelism
ORGANIZER;CN="Stephanie Fritz":MAILTO:stephanie.fritz@pcusa.org
END:VEVENT
BEGIN:VEVENT
DTSTART;TZID=America/Kentucky/Louisville:20230220T090000
DTEND;TZID=America/Kentucky/Louisville:20230222T170000
DTSTAMP:20260424T224346
CREATED:20230126T191335Z
LAST-MODIFIED:20230126T191759Z
UID:227217-1676883600-1677085200@centernet.pcusa.org
SUMMARY:COTE Stated Meeting
DESCRIPTION:This meeting is a Stated Meeting of the Committee on Theological Education. \nContact Catherine.Reuning@pcusa.org by Monday\, Feb. 20\, 12:00 pm ET for details.
URL:https://centernet.pcusa.org/event/cote-stated-meeting-2/
CATEGORIES:Theology, Formation, and Evangelism
END:VEVENT
BEGIN:VEVENT
DTSTART;TZID=America/Kentucky/Louisville:20230228T200000
DTEND;TZID=America/Kentucky/Louisville:20230228T210000
DTSTAMP:20260424T224346
CREATED:20230209T143412Z
LAST-MODIFIED:20230209T143412Z
UID:227645-1677614400-1677618000@centernet.pcusa.org
SUMMARY:Faith Formation Leader Connection
DESCRIPTION:February Topic: Intergenerational Ministry – One-hour sessions: to share resources on the topic and then open to general conversation\, questions\, and sharing \nWith Stephanie Fritz\, Coordinator\, Office of Christian Formation and Miatta Wilson\, Mission Associate\, Office of Christian Formation \nZoom link: https://zoom.us/j/92294289022?pwd=L3c1VlQ3VU9zVUU5cEFaMTZPYnRUUT09 \nMeeting ID: 922 9428 9022\nPasscode: 165642
URL:https://centernet.pcusa.org/event/faith-formation-leader-connection-2/
CATEGORIES:Theology, Formation, and Evangelism
ORGANIZER;CN="Miatta Wilson":MAILTO:miatta.wilson@pcusa.org
END:VEVENT
END:VCALENDAR