BEGIN:VCALENDAR
VERSION:2.0
PRODID:-//Presbyterian Mission Agency - ECPv6.7.0//NONSGML v1.0//EN
CALSCALE:GREGORIAN
METHOD:PUBLISH
X-WR-CALNAME:Presbyterian Mission Agency
X-ORIGINAL-URL:https://centernet.pcusa.org
X-WR-CALDESC:Events for Presbyterian Mission Agency
REFRESH-INTERVAL;VALUE=DURATION:PT1H
X-Robots-Tag:noindex
X-PUBLISHED-TTL:PT1H
BEGIN:VTIMEZONE
TZID:America/Kentucky/Louisville
BEGIN:DAYLIGHT
TZOFFSETFROM:-0500
TZOFFSETTO:-0400
TZNAME:EDT
DTSTART:20220313T070000
END:DAYLIGHT
BEGIN:STANDARD
TZOFFSETFROM:-0400
TZOFFSETTO:-0500
TZNAME:EST
DTSTART:20221106T060000
END:STANDARD
END:VTIMEZONE
BEGIN:VEVENT
DTSTART;TZID=America/Kentucky/Louisville:20220601T120000
DTEND;TZID=America/Kentucky/Louisville:20220601T143000
DTSTAMP:20260425T092928
CREATED:20220524T125550Z
LAST-MODIFIED:20220524T125647Z
UID:219010-1654084800-1654093800@centernet.pcusa.org
SUMMARY:COTE Called Meeting
DESCRIPTION:This meeting is a Special Meeting of the Committee on Theological Education. \nContact Catherine.Reuning@pcusa.org by Tuesday\, May 31\, 12:00 pm EST for details.
URL:https://centernet.pcusa.org/event/cote-called-meeting/
CATEGORIES:Theology, Formation, and Evangelism
END:VEVENT
BEGIN:VEVENT
DTSTART;TZID=America/Kentucky/Louisville:20220609T130000
DTEND;TZID=America/Kentucky/Louisville:20220609T143000
DTSTAMP:20260425T092928
CREATED:20220518T174038Z
LAST-MODIFIED:20220518T174952Z
UID:218839-1654779600-1654785000@centernet.pcusa.org
SUMMARY:Student Loan Debt Webinar- Changes in Federal Programs Impact PC(USA) Leaders
DESCRIPTION:Webinar will give an overview of changes to Federal Student Loans that have massive implications for PC(USA) leaders and provide access to assistance. \nRegister here
URL:https://centernet.pcusa.org/event/student-loan-debt-webinar-changes-in-federal-programs-impact-pcusa-leaders-2/
CATEGORIES:Theology, Formation, and Evangelism
ORGANIZER;CN="Melonee Tubb":MAILTO:melonee.tubb@pcusa.org
END:VEVENT
BEGIN:VEVENT
DTSTART;VALUE=DATE:20220613
DTEND;VALUE=DATE:20220617
DTSTAMP:20260425T092928
CREATED:20220504T135643Z
LAST-MODIFIED:20220504T140654Z
UID:218360-1655078400-1655423999@centernet.pcusa.org
SUMMARY:UKirk National Gathering
DESCRIPTION:First National Gathering of UKirk Leaders
URL:https://centernet.pcusa.org/event/ukirk-national-gathering-2/
CATEGORIES:Theology, Formation, and Evangelism
ORGANIZER;CN="miatta wilson":MAILTO:miatta.wilson@pcusa.org
END:VEVENT
END:VCALENDAR