BEGIN:VCALENDAR
VERSION:2.0
PRODID:-//Presbyterian Mission Agency - ECPv6.7.0//NONSGML v1.0//EN
CALSCALE:GREGORIAN
METHOD:PUBLISH
X-WR-CALNAME:Presbyterian Mission Agency
X-ORIGINAL-URL:https://centernet.pcusa.org
X-WR-CALDESC:Events for Presbyterian Mission Agency
REFRESH-INTERVAL;VALUE=DURATION:PT1H
X-Robots-Tag:noindex
X-PUBLISHED-TTL:PT1H
BEGIN:VTIMEZONE
TZID:America/Kentucky/Louisville
BEGIN:DAYLIGHT
TZOFFSETFROM:-0500
TZOFFSETTO:-0400
TZNAME:EDT
DTSTART:20230312T070000
END:DAYLIGHT
BEGIN:STANDARD
TZOFFSETFROM:-0400
TZOFFSETTO:-0500
TZNAME:EST
DTSTART:20231105T060000
END:STANDARD
END:VTIMEZONE
BEGIN:VEVENT
DTSTART;TZID=America/Kentucky/Louisville:20230620T160000
DTEND;TZID=America/Kentucky/Louisville:20230620T170000
DTSTAMP:20260424T132032
CREATED:20230615T171614Z
LAST-MODIFIED:20230615T171721Z
UID:232060-1687276800-1687280400@centernet.pcusa.org
SUMMARY:World Refugee Day Virtual Faith Vigil
DESCRIPTION:Rev. Sunny Kang\, PCUSA pastor\, senior pastor at United University Church in LA (Pacific Presbytery) has agreed to speak as part of the World Refugee Day Vigil\, hosted by the Interfaith Immigration Coalition.\nJoin us in lifting up the voices of refugees and asylum seekers\, offering prayers\, and mobilizing our faith communities.\n·  Share testimonies of refugees and faith partnerships\,\n·  Re-ignite energies for refugee resettlement and accompaniment among congregations\n·  Rebuild our U.S. heritage of welcoming refugees and asylum seekers\, and\n·  Raise awareness of refugee and asylum seeker advocacy needs \nRegistration Link: https://us02web.zoom.us/webinar/register/WN_3B5Y-pifRBO7phO2S59W1w#/registration \n 
URL:https://centernet.pcusa.org/event/world-refugee-day-virtual-faith-vigil/
CATEGORIES:Committee on Mission Responsibility Through Investment
ORGANIZER;CN="Susan Krehbiel":MAILTO:mailto:susan.krehbiel@pcusa.org
END:VEVENT
END:VCALENDAR