BEGIN:VCALENDAR
VERSION:2.0
PRODID:-//Presbyterian Mission Agency - ECPv6.7.0//NONSGML v1.0//EN
CALSCALE:GREGORIAN
METHOD:PUBLISH
X-WR-CALNAME:Presbyterian Mission Agency
X-ORIGINAL-URL:https://centernet.pcusa.org
X-WR-CALDESC:Events for Presbyterian Mission Agency
REFRESH-INTERVAL;VALUE=DURATION:PT1H
X-Robots-Tag:noindex
X-PUBLISHED-TTL:PT1H
BEGIN:VTIMEZONE
TZID:America/Kentucky/Louisville
BEGIN:DAYLIGHT
TZOFFSETFROM:-0500
TZOFFSETTO:-0400
TZNAME:EDT
DTSTART:20190310T070000
END:DAYLIGHT
BEGIN:STANDARD
TZOFFSETFROM:-0400
TZOFFSETTO:-0500
TZNAME:EST
DTSTART:20191103T060000
END:STANDARD
END:VTIMEZONE
BEGIN:VEVENT
DTSTART;TZID=America/Kentucky/Louisville:20190712T120000
DTEND;TZID=America/Kentucky/Louisville:20190712T130000
DTSTAMP:20260425T001437
CREATED:20190710T184051Z
LAST-MODIFIED:20190712T134055Z
UID:168440-1562932800-1562936400@centernet.pcusa.org
SUMMARY:Small group PMA Board meeting with Stony Point Roundtable
DESCRIPTION:Small group PMA Board meeting with Stony Point Roundtable\nZoom Meeting\nFriday\, July 12\,  12:00 pm  EDT
URL:https://centernet.pcusa.org/event/small-group-pma-board-meeting-with-stony-point-roundtable/
LOCATION:Zoom Meeting
CATEGORIES:General Assembly
ORGANIZER;CN="Kari Hay":MAILTO:Kari.Hay@pcusa.org
END:VEVENT
BEGIN:VEVENT
DTSTART;TZID=America/Kentucky/Louisville:20190712T150000
DTEND;TZID=America/Kentucky/Louisville:20190712T160000
DTSTAMP:20260425T001437
CREATED:20190711T180044Z
LAST-MODIFIED:20190711T180044Z
UID:168533-1562943600-1562947200@centernet.pcusa.org
SUMMARY:A Corp\, Audit\, Legal\, and Risk Management Committee Meeting
DESCRIPTION:A Corp\, Audit\, Legal\, and Risk Management Committee Meeting
URL:https://centernet.pcusa.org/event/a-corp-audit-legal-and-risk-management-committee-meeting/
LOCATION:Zoom Meeting
CATEGORIES:General Assembly
ORGANIZER;CN="Jennifer McCargar":MAILTO:jennifer.mccargar@pcusa.org
END:VEVENT
END:VCALENDAR